BEGIN:VCALENDAR
VERSION:2.0
PRODID:-//Syosset Camera Club - ECPv6.15.20//NONSGML v1.0//EN
CALSCALE:GREGORIAN
METHOD:PUBLISH
X-WR-CALNAME:Syosset Camera Club
X-ORIGINAL-URL:https://syossetcc.org/wordpress1
X-WR-CALDESC:Events for Syosset Camera Club
REFRESH-INTERVAL;VALUE=DURATION:PT1H
X-Robots-Tag:noindex
X-PUBLISHED-TTL:PT1H
BEGIN:VTIMEZONE
TZID:America/New_York
BEGIN:DAYLIGHT
TZOFFSETFROM:-0500
TZOFFSETTO:-0400
TZNAME:EDT
DTSTART:20240310T070000
END:DAYLIGHT
BEGIN:STANDARD
TZOFFSETFROM:-0400
TZOFFSETTO:-0500
TZNAME:EST
DTSTART:20241103T060000
END:STANDARD
BEGIN:DAYLIGHT
TZOFFSETFROM:-0500
TZOFFSETTO:-0400
TZNAME:EDT
DTSTART:20250309T070000
END:DAYLIGHT
BEGIN:STANDARD
TZOFFSETFROM:-0400
TZOFFSETTO:-0500
TZNAME:EST
DTSTART:20251102T060000
END:STANDARD
BEGIN:DAYLIGHT
TZOFFSETFROM:-0500
TZOFFSETTO:-0400
TZNAME:EDT
DTSTART:20260308T070000
END:DAYLIGHT
BEGIN:STANDARD
TZOFFSETFROM:-0400
TZOFFSETTO:-0500
TZNAME:EST
DTSTART:20261101T060000
END:STANDARD
END:VTIMEZONE
BEGIN:VEVENT
DTSTART;TZID=America/New_York:20251218T193000
DTEND;TZID=America/New_York:20251218T213000
DTSTAMP:20260423T062006
CREATED:20240704T180921Z
LAST-MODIFIED:20250704T195146Z
UID:2601-1766086200-1766093400@syossetcc.org
SUMMARY:SCC Presentation - Click for more details
DESCRIPTION:Posing Subjects for Portraits – Lynford Morton – all clubs welcome
URL:https://syossetcc.org/wordpress1/event/scc-presentation-4/
LOCATION:Zoom
CATEGORIES:Club Presentation
END:VEVENT
BEGIN:VEVENT
DTSTART;TZID=America/New_York:20251211T193000
DTEND;TZID=America/New_York:20251211T213000
DTSTAMP:20260423T062006
CREATED:20240625T045551Z
LAST-MODIFIED:20250706T170901Z
UID:2359-1765481400-1765488600@syossetcc.org
SUMMARY:SCC Competition - Click for more details
DESCRIPTION:The judge scheduled for this competition is Lisa Cuchara. \nUpload your images here
URL:https://syossetcc.org/wordpress1/event/scc-dec-2024-competition/
LOCATION:Zoom
CATEGORIES:Club Competition
END:VEVENT
BEGIN:VEVENT
DTSTART;TZID=America/New_York:20251204T193000
DTEND;TZID=America/New_York:20251204T213000
DTSTAMP:20260423T062006
CREATED:20241016T150856Z
LAST-MODIFIED:20250704T193905Z
UID:3263-1764876600-1764883800@syossetcc.org
SUMMARY:SCC Holiday Party - Click for ore details
DESCRIPTION:
URL:https://syossetcc.org/wordpress1/event/scc-holiday-party-click-for-ore-details/
LOCATION:The Club House @ Haypath Road Park\, 240 Haypath Rd\, Old Bethpage\, NY\, NY\, 11804\, United States
CATEGORIES:Club Party
END:VEVENT
BEGIN:VEVENT
DTSTART;TZID=America/New_York:20251120T193000
DTEND;TZID=America/New_York:20251120T213000
DTSTAMP:20260423T062006
CREATED:20240704T175622Z
LAST-MODIFIED:20250704T193823Z
UID:2583-1763667000-1763674200@syossetcc.org
SUMMARY:SCC Critique - Click for more details
DESCRIPTION:Upload your images here
URL:https://syossetcc.org/wordpress1/event/scc-critique-2/
LOCATION:Zoom
CATEGORIES:Club Critique
END:VEVENT
BEGIN:VEVENT
DTSTART;TZID=America/New_York:20251113T193000
DTEND;TZID=America/New_York:20251113T213000
DTSTAMP:20260423T062006
CREATED:20240625T045509Z
LAST-MODIFIED:20250706T170626Z
UID:2358-1763062200-1763069400@syossetcc.org
SUMMARY:SCC Competition - Click for more details
DESCRIPTION:The judge scheduled for this competition is Nick Palmieri. \nUpload your images here
URL:https://syossetcc.org/wordpress1/event/scc-nov-2024-competition/
LOCATION:Zoom
CATEGORIES:Club Competition
END:VEVENT
BEGIN:VEVENT
DTSTART;TZID=America/New_York:20251106T193000
DTEND;TZID=America/New_York:20251106T210000
DTSTAMP:20260423T062006
CREATED:20251021T194345Z
LAST-MODIFIED:20251021T194703Z
UID:4292-1762457400-1762462800@syossetcc.org
SUMMARY:SCC Membership Meeting - Click for more details
DESCRIPTION:Determine intertest and possibly schedule a swap-n-shop at Haypath with or without other clubs.\nHoliday party presently scheduled for December 4th – Pot luck\, catered\, or a restaurant.\nVolunteer needed for 2026-27 camera club for a Presentation Chair as Jessie is retiring.
URL:https://syossetcc.org/wordpress1/event/scc-membership-meeting-click-for-more-details-2/
LOCATION:Zoom
END:VEVENT
BEGIN:VEVENT
DTSTART;TZID=America/New_York:20251023T193000
DTEND;TZID=America/New_York:20251023T213000
DTSTAMP:20260423T062006
CREATED:20240722T005356Z
LAST-MODIFIED:20250926T013922Z
UID:2834-1761247800-1761255000@syossetcc.org
SUMMARY:SCC Critique - Click for more details
DESCRIPTION:Upload your images here
URL:https://syossetcc.org/wordpress1/event/scc-critique-8/
LOCATION:Zoom
CATEGORIES:Club Critique
END:VEVENT
BEGIN:VEVENT
DTSTART;TZID=America/New_York:20251016T193000
DTEND;TZID=America/New_York:20251016T213000
DTSTAMP:20260423T062006
CREATED:20240704T180808Z
LAST-MODIFIED:20250704T194926Z
UID:2599-1760643000-1760650200@syossetcc.org
SUMMARY:SCC Presentation - Click for more details
DESCRIPTION:Macro Photography – Emilie Talpin – all clubs welcome
URL:https://syossetcc.org/wordpress1/event/scc-presentation-3/
LOCATION:Zoom
CATEGORIES:Club Presentation
END:VEVENT
BEGIN:VEVENT
DTSTART;TZID=America/New_York:20251009T193000
DTEND;TZID=America/New_York:20251009T213000
DTSTAMP:20260423T062006
CREATED:20240625T045235Z
LAST-MODIFIED:20250706T170530Z
UID:2355-1760038200-1760045400@syossetcc.org
SUMMARY:SCC Competition - Click for more details
DESCRIPTION:The judge scheduled for this competition is John Bruno. \nUpload your images here
URL:https://syossetcc.org/wordpress1/event/scc-oct-2024-competition/
LOCATION:Zoom
CATEGORIES:Club Competition
END:VEVENT
BEGIN:VEVENT
DTSTART;TZID=America/New_York:20250930T193000
DTEND;TZID=America/New_York:20250930T210000
DTSTAMP:20260423T062006
CREATED:20250923T195736Z
LAST-MODIFIED:20250923T195736Z
UID:4279-1759260600-1759266000@syossetcc.org
SUMMARY:SCC Membership Meeting - Click for More Details
DESCRIPTION:The primary focus of this meeting will be to review and select an approach that reduces the number of images a given member can submit. The reason for this is that with the recent addition on the new Close-up/Macro category\, members can now submit up to 10 images and with the addition of new members\, our first competition this season took nearly 3 hours to get through all of the images.
URL:https://syossetcc.org/wordpress1/event/scc-membership-meeting-click-for-more-details/
LOCATION:Zoom
END:VEVENT
BEGIN:VEVENT
DTSTART;TZID=America/New_York:20250925T193000
DTEND;TZID=America/New_York:20250925T213000
DTSTAMP:20260423T062006
CREATED:20240704T175509Z
LAST-MODIFIED:20250704T190734Z
UID:2581-1758828600-1758835800@syossetcc.org
SUMMARY:SCC Critique - Click for more details
DESCRIPTION:Upload your images here
URL:https://syossetcc.org/wordpress1/event/scc-critique/
LOCATION:Zoom
CATEGORIES:Club Critique
END:VEVENT
BEGIN:VEVENT
DTSTART;TZID=America/New_York:20250918T193000
DTEND;TZID=America/New_York:20250918T210000
DTSTAMP:20260423T062006
CREATED:20240722T004246Z
LAST-MODIFIED:20250704T190654Z
UID:2828-1758223800-1758229200@syossetcc.org
SUMMARY:SCC Presentation - Click for more details
DESCRIPTION:Intentional Camera Movement – Lee Goldstein\nall clubs welcome
URL:https://syossetcc.org/wordpress1/event/scc-presentation-6/
LOCATION:Zoom
CATEGORIES:Club Presentation
END:VEVENT
BEGIN:VEVENT
DTSTART;TZID=America/New_York:20250911T193000
DTEND;TZID=America/New_York:20250911T213000
DTSTAMP:20260423T062006
CREATED:20240624T010114Z
LAST-MODIFIED:20250706T170453Z
UID:2338-1757619000-1757626200@syossetcc.org
SUMMARY:SCC Competition - Click for more details
DESCRIPTION:The judge scheduled for this competition is Tom Cuchara. \nUpload your images here
URL:https://syossetcc.org/wordpress1/event/scc-sept-2024-competition/
LOCATION:Zoom
CATEGORIES:Club Competition
END:VEVENT
BEGIN:VEVENT
DTSTART;TZID=America/New_York:20250904T193000
DTEND;TZID=America/New_York:20250904T210000
DTSTAMP:20260423T062006
CREATED:20240704T170926Z
LAST-MODIFIED:20250704T190041Z
UID:2540-1757014200-1757019600@syossetcc.org
SUMMARY:SCC Meeting - Click for more details
DESCRIPTION:
URL:https://syossetcc.org/wordpress1/event/scc-club-meeting/
LOCATION:The Club House @ Haypath Road Park\, 240 Haypath Rd\, Old Bethpage\, NY\, NY\, 11804\, United States
CATEGORIES:Club Meeting
END:VEVENT
BEGIN:VEVENT
DTSTART;TZID=America/New_York:20250721T190000
DTEND;TZID=America/New_York:20250721T210000
DTSTAMP:20260423T062006
CREATED:20250708T162948Z
LAST-MODIFIED:20250708T162948Z
UID:4215-1753124400-1753131600@syossetcc.org
SUMMARY:SCC Meeting - Click for more details
DESCRIPTION:Review new PFLI rules
URL:https://syossetcc.org/wordpress1/event/scc-meeting-click-for-more-details/
LOCATION:Zoom
END:VEVENT
BEGIN:VEVENT
DTSTART;VALUE=DATE:20250518
DTEND;VALUE=DATE:20250519
DTSTAMP:20260423T062006
CREATED:20250403T155906Z
LAST-MODIFIED:20250403T155906Z
UID:4035-1747526400-1747612799@syossetcc.org
SUMMARY:SCC Excursion - Bayport Aerodrome Vintage Wings and Wheels
DESCRIPTION:
URL:https://syossetcc.org/wordpress1/event/scc-excursion-bayport-aerodrome-vintage-wings-and-wheels/
LOCATION:Bayport Aerodrome Society\, 60 Vitamin Drive\, Bayport\, NY\, 11705\, United States
END:VEVENT
BEGIN:VEVENT
DTSTART;TZID=America/New_York:20250515T193000
DTEND;TZID=America/New_York:20250515T213000
DTSTAMP:20260423T062006
CREATED:20250425T131818Z
LAST-MODIFIED:20250425T132008Z
UID:4040-1747337400-1747344600@syossetcc.org
SUMMARY:SCC Presentation - Click for more details
DESCRIPTION:Attracting and Photographing Hummingbirds – Joe Willmore \nJoin us as Joe Willmore discusses how to set up a hummingbird feeder in your backyard\, where to place it for optimal photos\, what to look for in a feeder\, how to create the ideal nectar to attract them\, where to position your camera\, and what settings to use to get optimal photos.\nit’s a complete A-Z presentation on hummingbird photography (and our last Zoom presentation of the season).  We hope you’ll all be able to come. Club VIPs\, please share this invitation with your members.
URL:https://syossetcc.org/wordpress1/event/scc-presentation-joe-willmore/
LOCATION:Zoom
CATEGORIES:Club Presentation
END:VEVENT
BEGIN:VEVENT
DTSTART;TZID=America/New_York:20250510T090000
DTEND;TZID=America/New_York:20250510T150000
DTSTAMP:20260423T062006
CREATED:20250402T234132Z
LAST-MODIFIED:20250402T234945Z
UID:4031-1746867600-1746889200@syossetcc.org
SUMMARY:SCC Excursion - Barrel Racing in Coram
DESCRIPTION:Let’s all get together to photograph Barrel Racing in Coram.  Soulshine Ranch is located at 567 Mill Road\, Coram NY.\nGates open at 9\, practice begins at 10 and the racing begins at noon. Please carpool as parking may be limited due to trucks with trailers and participants moving around the grounds. There is additional parking on the side street across from the ranch. You might want to bring a chair to sit ringside.
URL:https://syossetcc.org/wordpress1/event/scc-excursion-barrel-racing-in-coram/
LOCATION:Soulshine Ranch Coram NY\, 567 mill road\, coram\, NY\, 11727\, United States
END:VEVENT
END:VCALENDAR