BEGIN:VCALENDAR
VERSION:2.0
PRODID:-//Syosset Camera Club - ECPv6.15.20//NONSGML v1.0//EN
CALSCALE:GREGORIAN
METHOD:PUBLISH
X-WR-CALNAME:Syosset Camera Club
X-ORIGINAL-URL:https://syossetcc.org/wordpress1
X-WR-CALDESC:Events for Syosset Camera Club
REFRESH-INTERVAL;VALUE=DURATION:PT1H
X-Robots-Tag:noindex
X-PUBLISHED-TTL:PT1H
BEGIN:VTIMEZONE
TZID:America/New_York
BEGIN:DAYLIGHT
TZOFFSETFROM:-0500
TZOFFSETTO:-0400
TZNAME:EDT
DTSTART:20250309T070000
END:DAYLIGHT
BEGIN:STANDARD
TZOFFSETFROM:-0400
TZOFFSETTO:-0500
TZNAME:EST
DTSTART:20251102T060000
END:STANDARD
BEGIN:DAYLIGHT
TZOFFSETFROM:-0500
TZOFFSETTO:-0400
TZNAME:EDT
DTSTART:20260308T070000
END:DAYLIGHT
BEGIN:STANDARD
TZOFFSETFROM:-0400
TZOFFSETTO:-0500
TZNAME:EST
DTSTART:20261101T060000
END:STANDARD
BEGIN:DAYLIGHT
TZOFFSETFROM:-0500
TZOFFSETTO:-0400
TZNAME:EDT
DTSTART:20270314T070000
END:DAYLIGHT
BEGIN:STANDARD
TZOFFSETFROM:-0400
TZOFFSETTO:-0500
TZNAME:EST
DTSTART:20271107T060000
END:STANDARD
END:VTIMEZONE
BEGIN:VEVENT
DTSTART;TZID=America/New_York:20260115T193000
DTEND;TZID=America/New_York:20260115T213000
DTSTAMP:20260422T191642
CREATED:20241206T021938Z
LAST-MODIFIED:20250704T195408Z
UID:3293-1768505400-1768512600@syossetcc.org
SUMMARY:SCC Presentation - Click for more details
DESCRIPTION:Wave and Shoreline Photography – Meghan Clifford – all clubs welcome
URL:https://syossetcc.org/wordpress1/event/scc-general-membership-meeting-click-for-more-details/
LOCATION:Zoom
CATEGORIES:Club Presentation
END:VEVENT
END:VCALENDAR