BEGIN:VCALENDAR
VERSION:2.0
PRODID:-//Syosset Camera Club - ECPv6.15.20//NONSGML v1.0//EN
CALSCALE:GREGORIAN
METHOD:PUBLISH
X-WR-CALNAME:Syosset Camera Club
X-ORIGINAL-URL:https://syossetcc.org/wordpress1
X-WR-CALDESC:Events for Syosset Camera Club
REFRESH-INTERVAL;VALUE=DURATION:PT1H
X-Robots-Tag:noindex
X-PUBLISHED-TTL:PT1H
BEGIN:VTIMEZONE
TZID:America/New_York
BEGIN:DAYLIGHT
TZOFFSETFROM:-0500
TZOFFSETTO:-0400
TZNAME:EDT
DTSTART:20250309T070000
END:DAYLIGHT
BEGIN:STANDARD
TZOFFSETFROM:-0400
TZOFFSETTO:-0500
TZNAME:EST
DTSTART:20251102T060000
END:STANDARD
BEGIN:DAYLIGHT
TZOFFSETFROM:-0500
TZOFFSETTO:-0400
TZNAME:EDT
DTSTART:20260308T070000
END:DAYLIGHT
BEGIN:STANDARD
TZOFFSETFROM:-0400
TZOFFSETTO:-0500
TZNAME:EST
DTSTART:20261101T060000
END:STANDARD
BEGIN:DAYLIGHT
TZOFFSETFROM:-0500
TZOFFSETTO:-0400
TZNAME:EDT
DTSTART:20270314T070000
END:DAYLIGHT
BEGIN:STANDARD
TZOFFSETFROM:-0400
TZOFFSETTO:-0500
TZNAME:EST
DTSTART:20271107T060000
END:STANDARD
END:VTIMEZONE
BEGIN:VEVENT
DTSTART;TZID=America/New_York:20260108T193000
DTEND;TZID=America/New_York:20260108T213000
DTSTAMP:20260423T164843
CREATED:20240704T173933Z
LAST-MODIFIED:20251220T200147Z
UID:2560-1767900600-1767907800@syossetcc.org
SUMMARY:SCC Competition - Click for more details
DESCRIPTION:The judge scheduled for this competition is Jared Plante. \nUpload your images here
URL:https://syossetcc.org/wordpress1/event/scc-competition/
LOCATION:Zoom
CATEGORIES:Club Competition
END:VEVENT
END:VCALENDAR